BEGIN:VCALENDAR
VERSION:2.0
PRODID:-//#JazzOffensiveEssen - ECPv5.1.0//NONSGML v1.0//EN
CALSCALE:GREGORIAN
METHOD:PUBLISH
X-WR-CALNAME:#JazzOffensiveEssen
X-ORIGINAL-URL:http://www.jazz-offensive-essen.de
X-WR-CALDESC:Veranstaltungen im #JazzOffensiveEssen
BEGIN:VTIMEZONE
TZID:Europe/Berlin
BEGIN:DAYLIGHT
TZOFFSETFROM:+0100
TZOFFSETTO:+0200
TZNAME:CEST
DTSTART:20190331T010000
END:DAYLIGHT
BEGIN:STANDARD
TZOFFSETFROM:+0200
TZOFFSETTO:+0100
TZNAME:CET
DTSTART:20191027T010000
END:STANDARD
END:VTIMEZONE
BEGIN:VEVENT
DTSTART;TZID=Europe/Berlin:20190411T193000
DTEND;TZID=Europe/Berlin:20190411T210000
DTSTAMP:20260422T133018
CREATED:20190407T125803Z
LAST-MODIFIED:20190407T125803Z
UID:1473-1555011000-1555016400@www.jazz-offensive-essen.de
SUMMARY:Ruhr in Green
DESCRIPTION: \nPablo Held Trio feat. Matthias Nadolny \nMatthias Nadolny &#8211; ts\nPablo Held &#8211; p\nRobert Landfermann &#8211; b\nJonas Burgwinkel &#8211; ds \nPhotocredit: Nadine Heller Menzel \n
URL:http://www.jazz-offensive-essen.de/kalender/ruhr-in-green/
LOCATION:Stadtbibliothek Essen\, Hollestr.3\, Essen\, Nordrhein-Westfalen\, 45127\, Deutschland
ORGANIZER;CN="Stadtbibliothek%20Essen":MAILTO:info@stadtbibliothek.essen.de
END:VEVENT
BEGIN:VEVENT
DTSTART;TZID=Europe/Berlin:20190411T210000
DTEND;TZID=Europe/Berlin:20190411T230000
DTSTAMP:20260422T133018
CREATED:20190325T194240Z
LAST-MODIFIED:20190325T194240Z
UID:1425-1555016400-1555023600@www.jazz-offensive-essen.de
SUMMARY:JOE Session
DESCRIPTION: \nUgurel/Askari/Camatta \nChristian Ugurel &#8211; ts\nReza Askari &#8211; b\nSimon Camatta &#8211; ds \n
URL:http://www.jazz-offensive-essen.de/kalender/joe-session-ugurel-askari-camatta/
LOCATION:Filmbar der Lichtburg\, Kettwiger Straße 36\, Essen\, Nordrhein-Westfalen\, 45127\, Deutschland
ORGANIZER;CN="Jazz%20Offensive%20Essen%20e.%20V.":MAILTO:post@jazz-offensive-essen.de
END:VEVENT
END:VCALENDAR