BEGIN:VCALENDAR
VERSION:2.0
PRODID:-//#JazzOffensiveEssen - ECPv5.1.0//NONSGML v1.0//EN
CALSCALE:GREGORIAN
METHOD:PUBLISH
X-WR-CALNAME:#JazzOffensiveEssen
X-ORIGINAL-URL:http://www.jazz-offensive-essen.de
X-WR-CALDESC:Veranstaltungen im #JazzOffensiveEssen
BEGIN:VTIMEZONE
TZID:Europe/Berlin
BEGIN:DAYLIGHT
TZOFFSETFROM:+0100
TZOFFSETTO:+0200
TZNAME:CEST
DTSTART:20190331T010000
END:DAYLIGHT
BEGIN:STANDARD
TZOFFSETFROM:+0200
TZOFFSETTO:+0100
TZNAME:CET
DTSTART:20191027T010000
END:STANDARD
END:VTIMEZONE
BEGIN:VEVENT
DTSTART;TZID=Europe/Berlin:20190515T203000
DTEND;TZID=Europe/Berlin:20190515T223000
DTSTAMP:20260420T073723
CREATED:20190408T104843Z
LAST-MODIFIED:20190408T104843Z
UID:1490-1557952200-1557959400@www.jazz-offensive-essen.de
SUMMARY:Betonmusik
DESCRIPTION:Spacepilot \nElias Meister &#8211; guitar\, loops\, sound fx\nLeo Genovese &#8211; synth\, rhodes\, effected noise\nJoe Hertenstein &#8211; drums\, perc \n
URL:http://www.jazz-offensive-essen.de/kalender/betonmusik-spacepilot/
LOCATION:Goethebunker\, Goethestr.67\, Essen\, Nordrhein-Westfalen\, 45130\, Deutschland
ORGANIZER;CN="Jazz%20Offensive%20Essen%20e.%20V.":MAILTO:post@jazz-offensive-essen.de
END:VEVENT
END:VCALENDAR