BEGIN:VCALENDAR
VERSION:2.0
PRODID:-//#JazzOffensiveEssen - ECPv5.1.0//NONSGML v1.0//EN
CALSCALE:GREGORIAN
METHOD:PUBLISH
X-WR-CALNAME:#JazzOffensiveEssen
X-ORIGINAL-URL:http://www.jazz-offensive-essen.de
X-WR-CALDESC:Veranstaltungen im #JazzOffensiveEssen
BEGIN:VTIMEZONE
TZID:Europe/Berlin
BEGIN:DAYLIGHT
TZOFFSETFROM:+0100
TZOFFSETTO:+0200
TZNAME:CEST
DTSTART:20190331T010000
END:DAYLIGHT
BEGIN:STANDARD
TZOFFSETFROM:+0200
TZOFFSETTO:+0100
TZNAME:CET
DTSTART:20191027T010000
END:STANDARD
END:VTIMEZONE
BEGIN:VEVENT
DTSTART;TZID=Europe/Berlin:20190525T200000
DTEND;TZID=Europe/Berlin:20190525T230000
DTSTAMP:20260420T222318
CREATED:20190325T201905Z
LAST-MODIFIED:20190325T205624Z
UID:1442-1558814400-1558825200@www.jazz-offensive-essen.de
SUMMARY:Jazz auf Carl
DESCRIPTION: \nTalibam! feat. Silke Eberhard & Nikolas Neuser \nSilke Eberhard &#8211; sax\nNikolaus Neuser &#8211; trp\nMatt Mottel &#8211; keys\, electronics\nKevin Shea &#8211; dr\, electronics \nMehr als 15 Europatourneen seit 2007 und über 30 Albumveröffentlichungen seit 2005 &#8211; das New Yorker Duo TALIBAM! ist eine der kreativsten und ungewöhnlichsten Formationen\, die man derzeit auf Jazz-\, Rock-\, Punk-\, Underground- und diversen anderen Bühnen erleben kann. \n\nGenres existieren für Keytarist Matt Mottel (Awesome Color\, Akron/Family\, Shadow Maps) und Drummer Kevin Shea (Mostly Other People Do The Killing\, Coptic Light) praktisch nicht. Experimental-Jazz-Rock irgendwo im Grenzbereich von Post-Prog Funk und Free Noise Polka. Gern erweitern Shea und Mottel ihr Line-Up um Mitglieder der ersten Garde der New Yorker Improvisationsszene\, wie z. B. Trompeter Peter Evans\, Bassist Moppa Elliott und Saxofonist Jon Irabagon. \nDiesmal begegnen sie den Berlinern Silke Eberhard (Saxophon) und Nikolaus Neuser (Trompete)\, die seit mehr als 15 Jahren in unterschiedlichen Kontexten zusammen arbeiten und sich dabei mit Werken von Kurt Schwitters\, Giaccinto Scelsi\, Eric Dolphy und Charles Mingus auseinandergesetzt haben. \nDas anarchistisch\, hyperaktiv und extrem intensiv aufspielende Quartett wendet sich mit seiner überwältigenden Klangwand keinesfalls an eine kleine Gruppe avantgardistischer “Kenner*innen”\, sondern beglückt mit seiner wuchtigen Show alle begeisterungsfähigen Freunde ausgefallener Musik jenseits üblicher Pfade. \n\n
URL:http://www.jazz-offensive-essen.de/kalender/jazz-auf-carl-talibam/
LOCATION:Zeche Carl\, Wilhelm-Nieswandt-Allee 100\, Essen\, Nordrhein-Westfalen\, 45326\, Deutschland
ORGANIZER;CN="Jazz%20Offensive%20Essen%20e.%20V.":MAILTO:post@jazz-offensive-essen.de
END:VEVENT
END:VCALENDAR