BEGIN:VCALENDAR
VERSION:2.0
PRODID:-//#JazzOffensiveEssen - ECPv5.1.0//NONSGML v1.0//EN
CALSCALE:GREGORIAN
METHOD:PUBLISH
X-WR-CALNAME:#JazzOffensiveEssen
X-ORIGINAL-URL:http://www.jazz-offensive-essen.de
X-WR-CALDESC:Veranstaltungen im #JazzOffensiveEssen
BEGIN:VTIMEZONE
TZID:Europe/Berlin
BEGIN:DAYLIGHT
TZOFFSETFROM:+0100
TZOFFSETTO:+0200
TZNAME:CEST
DTSTART:20190331T010000
END:DAYLIGHT
BEGIN:STANDARD
TZOFFSETFROM:+0200
TZOFFSETTO:+0100
TZNAME:CET
DTSTART:20191027T010000
END:STANDARD
END:VTIMEZONE
BEGIN:VEVENT
DTSTART;TZID=Europe/Berlin:20190424T210000
DTEND;TZID=Europe/Berlin:20190424T230000
DTSTAMP:20260421T081943
CREATED:20190408T110419Z
LAST-MODIFIED:20190408T110419Z
UID:1499-1556139600-1556146800@www.jazz-offensive-essen.de
SUMMARY:Folkwang Jazz
DESCRIPTION:Julia Kriegsmann Trio \nJulia Kriegsmann &#8211; as\ntba\ntba \nFolkwang Jazz
URL:http://www.jazz-offensive-essen.de/kalender/folkwang-jazz-jkriegsmann/
LOCATION:Folkwang Asta Café\, Klemensborn 39\, Essen\, Nordrhein-Westfalen\, 45239\, Deutschland
END:VEVENT
END:VCALENDAR