BEGIN:VCALENDAR
VERSION:2.0
PRODID:-//#JazzOffensiveEssen - ECPv5.1.0//NONSGML v1.0//EN
CALSCALE:GREGORIAN
METHOD:PUBLISH
X-WR-CALNAME:#JazzOffensiveEssen
X-ORIGINAL-URL:http://www.jazz-offensive-essen.de
X-WR-CALDESC:Veranstaltungen im #JazzOffensiveEssen
BEGIN:VTIMEZONE
TZID:Europe/Berlin
BEGIN:DAYLIGHT
TZOFFSETFROM:+0100
TZOFFSETTO:+0200
TZNAME:CEST
DTSTART:20190331T010000
END:DAYLIGHT
BEGIN:STANDARD
TZOFFSETFROM:+0200
TZOFFSETTO:+0100
TZNAME:CET
DTSTART:20191027T010000
END:STANDARD
END:VTIMEZONE
BEGIN:VEVENT
DTSTART;TZID=Europe/Berlin:20190417T200000
DTEND;TZID=Europe/Berlin:20190417T210000
DTSTAMP:20260421T143707
CREATED:20190408T184616Z
LAST-MODIFIED:20190408T184616Z
UID:1512-1555531200-1555534800@www.jazz-offensive-essen.de
SUMMARY:Jazz for the People
DESCRIPTION:Jazz From the Oriental Point of View\nYavuz Duman &#8211; tp\nMarc Brenken &#8211; p\nJean- Yves Braun &#8211; b\nHermann Heidenreich &#8211; ds \nYavuz Duman\, geboren und aufgewachsen in Istanbul\, studierte klassische Trompete in Rotterdam und lebt seit 2004 in Deutschland. Zu seinen Jazzidolen zählen u. a. Horace Silver und Benny Golson. Typische Rhythmen des Orients wie z. B. 9/8\, 5/8 oder 7/8 verbindet er beim heutigen Konzert mit Hardbop-Standards und Eigenkompositionen. \nJazz for the People
URL:http://www.jazz-offensive-essen.de/kalender/jazz-for-the-people-oriental/
LOCATION:Katakombentheater\, Giradetstr.2-38\, Essen\, Nordrhein-Westfalen\, 45131\, Deutschland
END:VEVENT
END:VCALENDAR