BEGIN:VCALENDAR
VERSION:2.0
PRODID:-//#JazzOffensiveEssen - ECPv5.1.0//NONSGML v1.0//EN
CALSCALE:GREGORIAN
METHOD:PUBLISH
X-WR-CALNAME:#JazzOffensiveEssen
X-ORIGINAL-URL:http://www.jazz-offensive-essen.de
X-WR-CALDESC:Veranstaltungen im #JazzOffensiveEssen
BEGIN:VTIMEZONE
TZID:Europe/Berlin
BEGIN:DAYLIGHT
TZOFFSETFROM:+0100
TZOFFSETTO:+0200
TZNAME:CEST
DTSTART:20190331T010000
END:DAYLIGHT
BEGIN:STANDARD
TZOFFSETFROM:+0200
TZOFFSETTO:+0100
TZNAME:CET
DTSTART:20191027T010000
END:STANDARD
END:VTIMEZONE
BEGIN:VEVENT
DTSTART;TZID=Europe/Berlin:20190425T210000
DTEND;TZID=Europe/Berlin:20190425T233000
DTSTAMP:20260421T063753
CREATED:20190325T195059Z
LAST-MODIFIED:20190325T195059Z
UID:1429-1556226000-1556235000@www.jazz-offensive-essen.de
SUMMARY:JOE Session
DESCRIPTION: \nLucas Johnson nju:zone \nMax Treutner &#8211; ts\nAlex Ventling &#8211; p\nJeremie Krüttli &#8211; b\nLucas Johnson &#8211; ds \nJOE Session
URL:http://www.jazz-offensive-essen.de/kalender/joe-session-njuzone/
LOCATION:Filmbar der Lichtburg\, Kettwiger Straße 36\, Essen\, Nordrhein-Westfalen\, 45127\, Deutschland
ORGANIZER;CN="Jazz%20Offensive%20Essen%20e.%20V.":MAILTO:post@jazz-offensive-essen.de
END:VEVENT
END:VCALENDAR