BEGIN:VCALENDAR
VERSION:2.0
PRODID:-//#JazzOffensiveEssen - ECPv5.1.0//NONSGML v1.0//EN
CALSCALE:GREGORIAN
METHOD:PUBLISH
X-WR-CALNAME:#JazzOffensiveEssen
X-ORIGINAL-URL:http://www.jazz-offensive-essen.de
X-WR-CALDESC:Veranstaltungen im #JazzOffensiveEssen
BEGIN:VTIMEZONE
TZID:Europe/Berlin
BEGIN:DAYLIGHT
TZOFFSETFROM:+0100
TZOFFSETTO:+0200
TZNAME:CEST
DTSTART:20190331T010000
END:DAYLIGHT
BEGIN:STANDARD
TZOFFSETFROM:+0200
TZOFFSETTO:+0100
TZNAME:CET
DTSTART:20191027T010000
END:STANDARD
END:VTIMEZONE
BEGIN:VEVENT
DTSTART;TZID=Europe/Berlin:20190328T210000
DTEND;TZID=Europe/Berlin:20190328T233000
DTSTAMP:20260421T223054
CREATED:20190325T193537Z
LAST-MODIFIED:20190325T193537Z
UID:1420-1553806800-1553815800@www.jazz-offensive-essen.de
SUMMARY:JOE Session
DESCRIPTION:DOs \nAlexander Badiarov &#8211; guit\, fx\nJaime Moraga Vasquez &#8211; ds\, fx\nJOE Session
URL:http://www.jazz-offensive-essen.de/kalender/joesession-dos/
LOCATION:Filmbar der Lichtburg\, Kettwiger Straße 36\, Essen\, Nordrhein-Westfalen\, 45127\, Deutschland
ORGANIZER;CN="Jazz%20Offensive%20Essen%20e.%20V.":MAILTO:post@jazz-offensive-essen.de
END:VEVENT
END:VCALENDAR